BEGIN:VCALENDAR
VERSION:2.0
PRODID:-//Date iCal//NONSGML kigkonsult.se iCalcreator 2.20.2//
METHOD:PUBLISH
BEGIN:VTIMEZONE
TZID:America/Toronto
BEGIN:STANDARD
DTSTART:20251102T020000
TZOFFSETFROM:-0400
TZOFFSETTO:-0500
TZNAME:EST
END:STANDARD
BEGIN:DAYLIGHT
DTSTART:20260308T020000
TZOFFSETFROM:-0500
TZOFFSETTO:-0400
TZNAME:EDT
END:DAYLIGHT
END:VTIMEZONE
BEGIN:VEVENT
UID:calendar.1622.events_uoft_date.0@www.italianstudies.utoronto.ca
CREATED:20260114T175130Z
DESCRIPTION:\nWhen and Where: \nTuesday, January 20, 2026 6:30 pm to 8:30
  pm \n Queen Books \n 914 Queen St. East, Toronto \n\nSpeakers \nGianna P
 atriarca, Paolo Frascà \n\nDescription: \nJoin us for an exciting reading
  and book signing event with internationally acclaimed and award-winning a
 uthor Gianna Patriarca, introduced by and in conversation with Prof. Paol
 o Frascà.The event is free and open to the public!     \n\nContact Informa
 tion: \n Paolo Frascà paolo.frasca@utoronto.ca 416-978-2201 \n\nSponsors 
 \nQueen Book, ISPLAS The Frank Iacobucci Centre for Italian Canadian Stud
 ies \n914 Queen St. East, Toronto \n\nCategories \n Roundtable \n\nAudien
 ces \n Alumni and FriendsCommunityFacultyGraduate StudentsStaffUndergradua
 te Students
DTSTART;TZID=America/Toronto:20260120T183000
DTEND;TZID=America/Toronto:20260120T203000
LAST-MODIFIED:20260114T175130Z
LOCATION:914 Queen St. East, Toronto
SUMMARY:Meet Gianna Patriarca: Reading, Conversation, and Book Signing
URL;TYPE=URI:https://www.italianstudies.utoronto.ca/events/meet-gianna-patr
 iarca-reading-conversation-and-book-signing
END:VEVENT
END:VCALENDAR
